BEGIN:VCALENDAR
VERSION:2.0
PRODID:-//Toledo Federation of Musicians - ECPv6.15.20//NONSGML v1.0//EN
CALSCALE:GREGORIAN
METHOD:PUBLISH
X-ORIGINAL-URL:https://www.toledofederationofmusicians.com
X-WR-CALDESC:Events for Toledo Federation of Musicians
REFRESH-INTERVAL;VALUE=DURATION:PT1H
X-Robots-Tag:noindex
X-PUBLISHED-TTL:PT1H
BEGIN:VTIMEZONE
TZID:America/Detroit
BEGIN:DAYLIGHT
TZOFFSETFROM:-0500
TZOFFSETTO:-0400
TZNAME:EDT
DTSTART:20240310T070000
END:DAYLIGHT
BEGIN:STANDARD
TZOFFSETFROM:-0400
TZOFFSETTO:-0500
TZNAME:EST
DTSTART:20241103T060000
END:STANDARD
BEGIN:DAYLIGHT
TZOFFSETFROM:-0500
TZOFFSETTO:-0400
TZNAME:EDT
DTSTART:20250309T070000
END:DAYLIGHT
BEGIN:STANDARD
TZOFFSETFROM:-0400
TZOFFSETTO:-0500
TZNAME:EST
DTSTART:20251102T060000
END:STANDARD
BEGIN:DAYLIGHT
TZOFFSETFROM:-0500
TZOFFSETTO:-0400
TZNAME:EDT
DTSTART:20260308T070000
END:DAYLIGHT
BEGIN:STANDARD
TZOFFSETFROM:-0400
TZOFFSETTO:-0500
TZNAME:EST
DTSTART:20261101T060000
END:STANDARD
END:VTIMEZONE
BEGIN:VEVENT
DTSTART;TZID=America/Detroit:20250112T160000
DTEND;TZID=America/Detroit:20250112T180000
DTSTAMP:20260420T170704
CREATED:20241213T141226Z
LAST-MODIFIED:20241213T141318Z
UID:1930-1736697600-1736704800@www.toledofederationofmusicians.com
SUMMARY:Musicians's Choice - Bach\, del Aguila\, Dvorak
DESCRIPTION:Toledo Symphony Principal Bass Jack Henning curates an afternoon of music by Johann Sebastian Bach\, Miguel del Águila\, and Antonín Dvořák. 
URL:https://www.toledofederationofmusicians.com/event/musicianss-choice-bach-del-aguila-dvorak/
LOCATION:GlasSalon at the TMA\, 2444 Monroe St\, Toledo\, OH\, 43620\, United States
ATTACH;FMTTYPE=image/png:https://www.toledofederationofmusicians.com/wp-content/uploads//2024/12/IMG_0951.png
END:VEVENT
BEGIN:VEVENT
DTSTART;TZID=America/Detroit:20250118T200000
DTEND;TZID=America/Detroit:20250118T220000
DTSTAMP:20260420T170704
CREATED:20241216T183048Z
LAST-MODIFIED:20241216T183048Z
UID:1934-1737230400-1737237600@www.toledofederationofmusicians.com
SUMMARY:Spanish Brass
DESCRIPTION:Spanish flavors meet Andalusian heat in this fascinating program. With a 35-year trajectory in the world of chamber music\, Spanish Brass is one of the most dynamic and established groups on the international musical stage. Together with the Toledo Symphony\, virtuosic versatility and Spanish flair brings to life the spirit of Spain through lively dances\, bold colors\, jazz rhythms and sultry harmonies. Intoxicating themes and stirring melodies transport listeners to the heart of Spain
URL:https://www.toledofederationofmusicians.com/event/spanish-brass/
LOCATION:Toledo Museum of Art Peristyle\, 2445 Monroe St\, Toledo\, OH\, 43620\, United States
ATTACH;FMTTYPE=image/png:https://www.toledofederationofmusicians.com/wp-content/uploads//2024/12/spbrass.png
END:VEVENT
BEGIN:VEVENT
DTSTART;TZID=America/Detroit:20250125T200000
DTEND;TZID=America/Detroit:20250125T220000
DTSTAMP:20260420T170704
CREATED:20241216T183409Z
LAST-MODIFIED:20241216T183409Z
UID:1937-1737835200-1737842400@www.toledofederationofmusicians.com
SUMMARY:A Night at the Oscars
DESCRIPTION:The Toledo Symphony rolls out the red carpet for some of the most iconic songs and scores from Oscar-winning films throughout cinematic history. This celebration of film scores by John Williams\, James Horner\, Hans Zimmer\, Howard Shore and more takes us on a journey through the most memorable musical moments on the silver screen such as E.T.\, Vertigo\, Lawrence of Arabia and more.
URL:https://www.toledofederationofmusicians.com/event/a-night-at-the-oscars/
LOCATION:Toledo Museum of Art Peristyle\, 2445 Monroe St\, Toledo\, OH\, 43620\, United States
ATTACH;FMTTYPE=image/png:https://www.toledofederationofmusicians.com/wp-content/uploads//2024/12/Pops_oscars.png
END:VEVENT
END:VCALENDAR