BEGIN:VCALENDAR
VERSION:2.0
PRODID:-//Toledo Federation of Musicians - ECPv6.15.20//NONSGML v1.0//EN
CALSCALE:GREGORIAN
METHOD:PUBLISH
X-ORIGINAL-URL:https://www.toledofederationofmusicians.com
X-WR-CALDESC:Events for Toledo Federation of Musicians
REFRESH-INTERVAL;VALUE=DURATION:PT1H
X-Robots-Tag:noindex
X-PUBLISHED-TTL:PT1H
BEGIN:VTIMEZONE
TZID:America/Detroit
BEGIN:DAYLIGHT
TZOFFSETFROM:-0500
TZOFFSETTO:-0400
TZNAME:EDT
DTSTART:20240310T070000
END:DAYLIGHT
BEGIN:STANDARD
TZOFFSETFROM:-0400
TZOFFSETTO:-0500
TZNAME:EST
DTSTART:20241103T060000
END:STANDARD
BEGIN:DAYLIGHT
TZOFFSETFROM:-0500
TZOFFSETTO:-0400
TZNAME:EDT
DTSTART:20250309T070000
END:DAYLIGHT
BEGIN:STANDARD
TZOFFSETFROM:-0400
TZOFFSETTO:-0500
TZNAME:EST
DTSTART:20251102T060000
END:STANDARD
BEGIN:DAYLIGHT
TZOFFSETFROM:-0500
TZOFFSETTO:-0400
TZNAME:EDT
DTSTART:20260308T070000
END:DAYLIGHT
BEGIN:STANDARD
TZOFFSETFROM:-0400
TZOFFSETTO:-0500
TZNAME:EST
DTSTART:20261101T060000
END:STANDARD
END:VTIMEZONE
BEGIN:VEVENT
DTSTART;TZID=America/Detroit:20250419T140000
DTEND;TZID=America/Detroit:20250419T160000
DTSTAMP:20260420T134820
CREATED:20250329T000006Z
LAST-MODIFIED:20250329T000219Z
UID:1988-1745071200-1745078400@www.toledofederationofmusicians.com
SUMMARY:An Afternoon of Piano Jazz
DESCRIPTION:Join us on Saturday\, April 19 @ 2PM. \nGuest pianist include; Chris Buzzelli\, Pete Ford\, John Cleveland\, Jeffrey Maxie and Gene Parker.
URL:https://www.toledofederationofmusicians.com/event/an-afternoon-of-piano-jazz/
LOCATION:Toledo Center for the Live Arts\, 4747 Heatherdowns Blvd.\, Toledo\, OH\, 43614\, United States
ATTACH;FMTTYPE=image/jpeg:https://www.toledofederationofmusicians.com/wp-content/uploads//2025/03/PIANOjazzConcert-scaled.jpg
END:VEVENT
END:VCALENDAR