BEGIN:VCALENDAR
VERSION:2.0
PRODID:-//Toledo Federation of Musicians - ECPv6.15.20//NONSGML v1.0//EN
CALSCALE:GREGORIAN
METHOD:PUBLISH
X-WR-CALNAME:Toledo Federation of Musicians
X-ORIGINAL-URL:https://www.toledofederationofmusicians.com
X-WR-CALDESC:Events for Toledo Federation of Musicians
REFRESH-INTERVAL;VALUE=DURATION:PT1H
X-Robots-Tag:noindex
X-PUBLISHED-TTL:PT1H
BEGIN:VTIMEZONE
TZID:America/Detroit
BEGIN:DAYLIGHT
TZOFFSETFROM:-0500
TZOFFSETTO:-0400
TZNAME:EDT
DTSTART:20240310T070000
END:DAYLIGHT
BEGIN:STANDARD
TZOFFSETFROM:-0400
TZOFFSETTO:-0500
TZNAME:EST
DTSTART:20241103T060000
END:STANDARD
BEGIN:DAYLIGHT
TZOFFSETFROM:-0500
TZOFFSETTO:-0400
TZNAME:EDT
DTSTART:20250309T070000
END:DAYLIGHT
BEGIN:STANDARD
TZOFFSETFROM:-0400
TZOFFSETTO:-0500
TZNAME:EST
DTSTART:20251102T060000
END:STANDARD
BEGIN:DAYLIGHT
TZOFFSETFROM:-0500
TZOFFSETTO:-0400
TZNAME:EDT
DTSTART:20260308T070000
END:DAYLIGHT
BEGIN:STANDARD
TZOFFSETFROM:-0400
TZOFFSETTO:-0500
TZNAME:EST
DTSTART:20261101T060000
END:STANDARD
END:VTIMEZONE
BEGIN:VEVENT
DTSTART;TZID=America/Detroit:20250208T200000
DTEND;TZID=America/Detroit:20250208T220000
DTSTAMP:20260420T170236
CREATED:20241216T184528Z
LAST-MODIFIED:20241216T184528Z
UID:1947-1739044800-1739052000@www.toledofederationofmusicians.com
SUMMARY:Rachmaninoff's Rhapsody
DESCRIPTION:Stewart Goodyear makes his return to the Peristyle stage on a program as both pianist and composer.  He performs one of Sergei Rachmaninoff’s most popular works – Rhapsody on a Theme of Paganini. Goodyear says that the title of his work Life\, Life\, Life is something his mother would often say when she was feeling happy\, exhausted\, or exasperated. The Toledo Symphony performs the American premiere of this tribute to Goodyear's mother which captures her joy and spirit.  
URL:https://www.toledofederationofmusicians.com/event/rachmaninoffs-rhapsody-2/
LOCATION:Toledo Museum of Art Peristyle\, 2445 Monroe St\, Toledo\, OH\, 43620\, United States
ATTACH;FMTTYPE=image/png:https://www.toledofederationofmusicians.com/wp-content/uploads//2024/12/MW6.png
END:VEVENT
END:VCALENDAR