BEGIN:VCALENDAR
VERSION:2.0
PRODID:-//Toledo Federation of Musicians - ECPv6.15.20//NONSGML v1.0//EN
CALSCALE:GREGORIAN
METHOD:PUBLISH
X-WR-CALNAME:Toledo Federation of Musicians
X-ORIGINAL-URL:https://www.toledofederationofmusicians.com
X-WR-CALDESC:Events for Toledo Federation of Musicians
REFRESH-INTERVAL;VALUE=DURATION:PT1H
X-Robots-Tag:noindex
X-PUBLISHED-TTL:PT1H
BEGIN:VTIMEZONE
TZID:America/Detroit
BEGIN:DAYLIGHT
TZOFFSETFROM:-0500
TZOFFSETTO:-0400
TZNAME:EDT
DTSTART:20240310T070000
END:DAYLIGHT
BEGIN:STANDARD
TZOFFSETFROM:-0400
TZOFFSETTO:-0500
TZNAME:EST
DTSTART:20241103T060000
END:STANDARD
BEGIN:DAYLIGHT
TZOFFSETFROM:-0500
TZOFFSETTO:-0400
TZNAME:EDT
DTSTART:20250309T070000
END:DAYLIGHT
BEGIN:STANDARD
TZOFFSETFROM:-0400
TZOFFSETTO:-0500
TZNAME:EST
DTSTART:20251102T060000
END:STANDARD
BEGIN:DAYLIGHT
TZOFFSETFROM:-0500
TZOFFSETTO:-0400
TZNAME:EDT
DTSTART:20260308T070000
END:DAYLIGHT
BEGIN:STANDARD
TZOFFSETFROM:-0400
TZOFFSETTO:-0500
TZNAME:EST
DTSTART:20261101T060000
END:STANDARD
END:VTIMEZONE
BEGIN:VEVENT
DTSTART;TZID=America/Detroit:20250202T160000
DTEND;TZID=America/Detroit:20250202T173000
DTSTAMP:20260420T164843
CREATED:20241216T183854Z
LAST-MODIFIED:20241216T183854Z
UID:1940-1738512000-1738517400@www.toledofederationofmusicians.com
SUMMARY:Musician's Choice – Brahms and Schubert
DESCRIPTION:Franz Schubert's popular Piano Quintet in A Major was composed when he was only 22 years old. Nicknamed the "Trout Quintet\," the fourth movement is a set of variations on Schubert's earlier lied "Die Forelle" (The Trout). Toledo Symphony Principal Cellist is featured in Johannes Brahms' Piano Trio No. 1 in B major\, Op. 8.
URL:https://www.toledofederationofmusicians.com/event/musicians-choice-brahms-and-schubert/
LOCATION:Robert Bell Studio\, TAPA Headquarters\, 4747 Heatherdowns\, Toledo\, OH\, 43614\, United States
ATTACH;FMTTYPE=image/png:https://www.toledofederationofmusicians.com/wp-content/uploads//2024/12/chamber_2.png
END:VEVENT
END:VCALENDAR