BEGIN:VCALENDAR
VERSION:2.0
PRODID:-//Toledo Federation of Musicians - ECPv6.15.20//NONSGML v1.0//EN
CALSCALE:GREGORIAN
METHOD:PUBLISH
X-ORIGINAL-URL:https://www.toledofederationofmusicians.com
X-WR-CALDESC:Events for Toledo Federation of Musicians
REFRESH-INTERVAL;VALUE=DURATION:PT1H
X-Robots-Tag:noindex
X-PUBLISHED-TTL:PT1H
BEGIN:VTIMEZONE
TZID:America/Detroit
BEGIN:DAYLIGHT
TZOFFSETFROM:-0500
TZOFFSETTO:-0400
TZNAME:EDT
DTSTART:20240310T070000
END:DAYLIGHT
BEGIN:STANDARD
TZOFFSETFROM:-0400
TZOFFSETTO:-0500
TZNAME:EST
DTSTART:20241103T060000
END:STANDARD
BEGIN:DAYLIGHT
TZOFFSETFROM:-0500
TZOFFSETTO:-0400
TZNAME:EDT
DTSTART:20250309T070000
END:DAYLIGHT
BEGIN:STANDARD
TZOFFSETFROM:-0400
TZOFFSETTO:-0500
TZNAME:EST
DTSTART:20251102T060000
END:STANDARD
BEGIN:DAYLIGHT
TZOFFSETFROM:-0500
TZOFFSETTO:-0400
TZNAME:EDT
DTSTART:20260308T070000
END:DAYLIGHT
BEGIN:STANDARD
TZOFFSETFROM:-0400
TZOFFSETTO:-0500
TZNAME:EST
DTSTART:20261101T060000
END:STANDARD
END:VTIMEZONE
BEGIN:VEVENT
DTSTART;TZID=America/Detroit:20250201T200000
DTEND;TZID=America/Detroit:20250201T220000
DTSTAMP:20260420T165127
CREATED:20241213T134839Z
LAST-MODIFIED:20241213T134839Z
UID:1911-1738440000-1738447200@www.toledofederationofmusicians.com
SUMMARY:American Songbook 3: The Artistry of Jon Hendricks
DESCRIPTION:the time he was 10\, Jon Hendricks was a local jazz celebrity in Toledo. Considered one of the best practitioners of scat-singing\, lyricist and singer Jon Hendricks influenced the likes of Joni Mitchell\, Van Morrison\, Al Jarreau\, Bobby McFerrin\, and many others. A student of Hendricks\, Toledo jazz icon Kim Buehler joins the Toledo Jazz Orchestra to pay tribute to the artistry and vocalese of Jon Hendricks.  
URL:https://www.toledofederationofmusicians.com/event/american-songbook-3-the-artistry-of-jon-hendricks/
LOCATION:Valentine Theatre\, 410 Adams St.\, Toledo\, OH\, 43604\, United States
ATTACH;FMTTYPE=image/png:https://www.toledofederationofmusicians.com/wp-content/uploads//2024/12/IMG_0948.png
END:VEVENT
END:VCALENDAR