BEGIN:VCALENDAR
VERSION:2.0
PRODID:-//Toledo Federation of Musicians - ECPv6.15.20//NONSGML v1.0//EN
CALSCALE:GREGORIAN
METHOD:PUBLISH
X-WR-CALNAME:Toledo Federation of Musicians
X-ORIGINAL-URL:https://www.toledofederationofmusicians.com
X-WR-CALDESC:Events for Toledo Federation of Musicians
REFRESH-INTERVAL;VALUE=DURATION:PT1H
X-Robots-Tag:noindex
X-PUBLISHED-TTL:PT1H
BEGIN:VTIMEZONE
TZID:America/Detroit
BEGIN:DAYLIGHT
TZOFFSETFROM:-0500
TZOFFSETTO:-0400
TZNAME:EDT
DTSTART:20230312T070000
END:DAYLIGHT
BEGIN:STANDARD
TZOFFSETFROM:-0400
TZOFFSETTO:-0500
TZNAME:EST
DTSTART:20231105T060000
END:STANDARD
BEGIN:DAYLIGHT
TZOFFSETFROM:-0500
TZOFFSETTO:-0400
TZNAME:EDT
DTSTART:20240310T070000
END:DAYLIGHT
BEGIN:STANDARD
TZOFFSETFROM:-0400
TZOFFSETTO:-0500
TZNAME:EST
DTSTART:20241103T060000
END:STANDARD
BEGIN:DAYLIGHT
TZOFFSETFROM:-0500
TZOFFSETTO:-0400
TZNAME:EDT
DTSTART:20250309T070000
END:DAYLIGHT
BEGIN:STANDARD
TZOFFSETFROM:-0400
TZOFFSETTO:-0500
TZNAME:EST
DTSTART:20251102T060000
END:STANDARD
END:VTIMEZONE
BEGIN:VEVENT
DTSTART;TZID=America/Detroit:20241122T200000
DTEND;TZID=America/Detroit:20241122T213000
DTSTAMP:20260420T222257
CREATED:20241003T173149Z
LAST-MODIFIED:20241003T173149Z
UID:1742-1732305600-1732311000@www.toledofederationofmusicians.com
SUMMARY:Rhapsody in Blue at 100
DESCRIPTION:A century ago\, a piercing clarinet glissando opened the premiere performance of George Gershwin’s Rhapsody in Blue and forever changed American music. The fusion of jazz and popular elements vividly depicted New York City in 1924 and opened upopened possibilities for generations of composers to follow.  Copland fused melodies inspired by American roots music with the European symphonic tradition in his heroic and majestic Third Symphony\, featuring the oft-performed Fanfare for the Common Man. GRAMMY®-award winning composer Jessie Montgomery’s Banner interweaves our national anthem with “a variety of cultural anthems\, American folk songs and popular idioms” that reflect the diversity and vitality of our 21st century nation.
URL:https://www.toledofederationofmusicians.com/event/rhapsody-in-blue-at-100/
LOCATION:OH
END:VEVENT
END:VCALENDAR