BEGIN:VCALENDAR
VERSION:2.0
PRODID:-//Toledo Federation of Musicians - ECPv6.15.20//NONSGML v1.0//EN
CALSCALE:GREGORIAN
METHOD:PUBLISH
X-ORIGINAL-URL:https://www.toledofederationofmusicians.com
X-WR-CALDESC:Events for Toledo Federation of Musicians
REFRESH-INTERVAL;VALUE=DURATION:PT1H
X-Robots-Tag:noindex
X-PUBLISHED-TTL:PT1H
BEGIN:VTIMEZONE
TZID:America/Detroit
BEGIN:DAYLIGHT
TZOFFSETFROM:-0500
TZOFFSETTO:-0400
TZNAME:EDT
DTSTART:20230312T070000
END:DAYLIGHT
BEGIN:STANDARD
TZOFFSETFROM:-0400
TZOFFSETTO:-0500
TZNAME:EST
DTSTART:20231105T060000
END:STANDARD
BEGIN:DAYLIGHT
TZOFFSETFROM:-0500
TZOFFSETTO:-0400
TZNAME:EDT
DTSTART:20240310T070000
END:DAYLIGHT
BEGIN:STANDARD
TZOFFSETFROM:-0400
TZOFFSETTO:-0500
TZNAME:EST
DTSTART:20241103T060000
END:STANDARD
BEGIN:DAYLIGHT
TZOFFSETFROM:-0500
TZOFFSETTO:-0400
TZNAME:EDT
DTSTART:20250309T070000
END:DAYLIGHT
BEGIN:STANDARD
TZOFFSETFROM:-0400
TZOFFSETTO:-0500
TZNAME:EST
DTSTART:20251102T060000
END:STANDARD
END:VTIMEZONE
BEGIN:VEVENT
DTSTART;TZID=America/Detroit:20241109T200000
DTEND;TZID=America/Detroit:20241109T213000
DTSTAMP:20260420T222531
CREATED:20241003T172130Z
LAST-MODIFIED:20241003T172130Z
UID:1736-1731182400-1731187800@www.toledofederationofmusicians.com
SUMMARY:Paul Huang Plays Mozart
DESCRIPTION:Brimming with passion\, drama\, and romance\, Schubert's Rosamunde Overture sets the stage for an evocative adventure. Violinist Paul Huang makes his Toledo debut performing Mozart's dazzling fourth violin concerto\, with its graceful melodies and exquisite craftsmanship showcasing the virtuosity of both composer and soloist. The program concludes with Bruckner's Symphony No. 4\, "Romantic\," a majestic exploration of soaring melodies and expansive landscapes of sound that evoke a sense of awe and wonderment.
URL:https://www.toledofederationofmusicians.com/event/paul-huang-plays-mozart/
LOCATION:Toledo Museum of Art Peristyle\, 2445 Monroe St\, Toledo\, OH\, 43620\, United States
END:VEVENT
END:VCALENDAR